Package: Rvisdiff Version: 1.8.0 Command: /Library/Frameworks/R.framework/Resources/bin/R CMD build --keep-empty-dirs --no-resave-data Rvisdiff StartedAt: 2025-11-21 09:00:59 -0500 (Fri, 21 Nov 2025) EndedAt: 2025-11-21 09:02:25 -0500 (Fri, 21 Nov 2025) EllapsedTime: 85.8 seconds RetCode: 0 Status: OK PackageFile: Rvisdiff_1.8.0.tar.gz PackageFileSize: 1.315 MiB