Package: Rvisdiff Version: 1.8.0 Command: /Library/Frameworks/R.framework/Resources/bin/R CMD INSTALL Rvisdiff StartedAt: 2025-11-20 15:57:39 -0500 (Thu, 20 Nov 2025) EndedAt: 2025-11-20 15:57:41 -0500 (Thu, 20 Nov 2025) EllapsedTime: 2.3 seconds RetCode: 0 Status: OK