Package: Rvisdiff Version: 1.8.0 Command: /home/biocbuild/R/R/bin/R CMD build --keep-empty-dirs --no-resave-data Rvisdiff StartedAt: 2025-11-21 05:27:08 -0000 (Fri, 21 Nov 2025) EndedAt: 2025-11-21 05:28:31 -0000 (Fri, 21 Nov 2025) EllapsedTime: 83.0 seconds RetCode: 0 Status: OK PackageFile: Rvisdiff_1.8.0.tar.gz PackageFileSize: 1.379 MiB