Package: Rvisdiff Version: 1.8.0 Command: /home/biocbuild/R/R/bin/R CMD INSTALL Rvisdiff StartedAt: 2025-11-20 21:47:09 -0000 (Thu, 20 Nov 2025) EndedAt: 2025-11-20 21:47:51 -0000 (Thu, 20 Nov 2025) EllapsedTime: 41.7 seconds RetCode: 0 Status: OK