Package: SCArray Version: 1.17.0 Command: /home/biocbuild/bbs-3.22-bioc/R/bin/R CMD build --keep-empty-dirs --no-resave-data --md5 SCArray StartedAt: 2025-10-20 19:44:43 -0400 (Mon, 20 Oct 2025) EndedAt: 2025-10-20 19:46:00 -0400 (Mon, 20 Oct 2025) EllapsedTime: 77.1 seconds RetCode: 0 Status: OK PackageFile: SCArray_1.17.0.tar.gz PackageFileSize: 1.338 MiB