Package: SCArray Version: 1.17.0 Command: /home/biocbuild/bbs-3.22-bioc/R/bin/R CMD INSTALL SCArray StartedAt: 2025-10-20 15:53:16 -0400 (Mon, 20 Oct 2025) EndedAt: 2025-10-20 15:53:55 -0400 (Mon, 20 Oct 2025) EllapsedTime: 39.3 seconds RetCode: 0 Status: OK