Package: SeqArray Version: 1.50.0 Command: /home/biocbuild/bbs-3.22-bioc/R/bin/R CMD build --keep-empty-dirs --no-resave-data --md5 SeqArray StartedAt: 2025-11-16 20:11:47 -0500 (Sun, 16 Nov 2025) EndedAt: 2025-11-16 20:13:58 -0500 (Sun, 16 Nov 2025) EllapsedTime: 131.1 seconds RetCode: 0 Status: OK PackageFile: SeqArray_1.50.0.tar.gz PackageFileSize: 3.672 MiB