Package: SharedObject Version: 1.24.0 Command: /home/biocbuild/bbs-3.22-bioc/R/bin/R CMD build --keep-empty-dirs --no-resave-data --md5 SharedObject StartedAt: 2025-11-09 20:13:16 -0500 (Sun, 09 Nov 2025) EndedAt: 2025-11-09 20:13:55 -0500 (Sun, 09 Nov 2025) EllapsedTime: 39.0 seconds RetCode: 0 Status: OK PackageFile: SharedObject_1.24.0.tar.gz PackageFileSize: 2.828 MiB