Package: SharedObject Version: 1.24.0 Command: /home/biocbuild/bbs-3.22-bioc/R/bin/R CMD INSTALL SharedObject StartedAt: 2025-11-09 15:11:37 -0500 (Sun, 09 Nov 2025) EndedAt: 2025-11-09 15:12:04 -0500 (Sun, 09 Nov 2025) EllapsedTime: 27.2 seconds RetCode: 0 Status: OK