Package: SplicingGraphs Version: 1.49.1 Command: /home/biocbuild/bbs-3.22-bioc/R/bin/R CMD build --keep-empty-dirs --no-resave-data --md5 SplicingGraphs StartedAt: 2025-10-08 20:40:58 -0400 (Wed, 08 Oct 2025) EndedAt: 2025-10-08 20:42:19 -0400 (Wed, 08 Oct 2025) EllapsedTime: 81.1 seconds RetCode: 1 Status: ERROR PackageFile: None PackageFileSize: NA