Package: SplicingGraphs Version: 1.49.1 Command: /home/biocbuild/bbs-3.22-bioc/R/bin/R CMD INSTALL SplicingGraphs StartedAt: 2025-10-10 15:50:48 -0400 (Fri, 10 Oct 2025) EndedAt: 2025-10-10 15:51:28 -0400 (Fri, 10 Oct 2025) EllapsedTime: 39.6 seconds RetCode: 0 Status: OK