Package: Structstrings Version: 1.25.3 Command: /home/biocbuild/bbs-3.22-bioc/R/bin/R CMD INSTALL Structstrings StartedAt: 2025-10-16 16:14:50 -0400 (Thu, 16 Oct 2025) EndedAt: 2025-10-16 16:15:07 -0400 (Thu, 16 Oct 2025) EllapsedTime: 17.5 seconds RetCode: 0 Status: OK