Package: TrajectoryGeometry Version: 1.17.0 Command: /home/biocbuild/bbs-3.22-bioc/R/bin/R CMD build --keep-empty-dirs --no-resave-data --md5 TrajectoryGeometry StartedAt: 2025-10-03 20:32:18 -0400 (Fri, 03 Oct 2025) EndedAt: 2025-10-03 20:36:43 -0400 (Fri, 03 Oct 2025) EllapsedTime: 265.3 seconds RetCode: 0 Status: OK PackageFile: TrajectoryGeometry_1.17.0.tar.gz PackageFileSize: 1.895 MiB