Package: TrajectoryGeometry Version: 1.17.0 Command: /home/biocbuild/bbs-3.22-bioc/R/bin/R CMD INSTALL TrajectoryGeometry StartedAt: 2025-10-03 15:06:59 -0400 (Fri, 03 Oct 2025) EndedAt: 2025-10-03 15:07:13 -0400 (Fri, 03 Oct 2025) EllapsedTime: 13.9 seconds RetCode: 0 Status: OK