Package: VariantAnnotation Version: 1.55.1 Command: /home/biocbuild/bbs-3.22-bioc/R/bin/R CMD INSTALL VariantAnnotation StartedAt: 2025-10-01 15:45:56 -0400 (Wed, 01 Oct 2025) EndedAt: 2025-10-01 15:47:33 -0400 (Wed, 01 Oct 2025) EllapsedTime: 97.1 seconds RetCode: 0 Status: OK