Package: VplotR Version: 1.20.0 Command: /home/biocbuild/bbs-3.22-bioc/R/bin/R CMD INSTALL VplotR StartedAt: 2025-11-20 16:39:43 -0500 (Thu, 20 Nov 2025) EndedAt: 2025-11-20 16:40:14 -0500 (Thu, 20 Nov 2025) EllapsedTime: 30.3 seconds RetCode: 0 Status: OK