Package: annotatr Version: 1.36.0 Command: /home/biocbuild/bbs-3.22-bioc/R/bin/R CMD build --keep-empty-dirs --no-resave-data --md5 annotatr StartedAt: 2025-11-20 17:05:29 -0500 (Thu, 20 Nov 2025) EndedAt: 2025-11-20 17:08:14 -0500 (Thu, 20 Nov 2025) EllapsedTime: 165.2 seconds RetCode: 0 Status: OK PackageFile: annotatr_1.36.0.tar.gz PackageFileSize: 2.654 MiB