Package: annotatr Version: 1.36.0 Command: /home/biocbuild/bbs-3.22-bioc/R/bin/R CMD INSTALL annotatr StartedAt: 2025-11-20 16:35:37 -0500 (Thu, 20 Nov 2025) EndedAt: 2025-11-20 16:36:20 -0500 (Thu, 20 Nov 2025) EllapsedTime: 43.3 seconds RetCode: 0 Status: OK