Package: arrayMvout Version: 1.67.0 Command: /home/biocbuild/bbs-3.22-bioc/R/bin/R CMD INSTALL arrayMvout StartedAt: 2025-10-13 16:03:45 -0400 (Mon, 13 Oct 2025) EndedAt: 2025-10-13 16:04:30 -0400 (Mon, 13 Oct 2025) EllapsedTime: 44.4 seconds RetCode: 0 Status: OK