Package: arrayQuality Version: 1.87.0 Command: /home/biocbuild/bbs-3.22-bioc/R/bin/R CMD build --keep-empty-dirs --no-resave-data --md5 arrayQuality StartedAt: 2025-10-23 16:16:47 -0400 (Thu, 23 Oct 2025) EndedAt: 2025-10-23 16:16:56 -0400 (Thu, 23 Oct 2025) EllapsedTime: 9.0 seconds RetCode: 0 Status: OK PackageFile: arrayQuality_1.87.0.tar.gz PackageFileSize: 12.82 MiB