Package: arrayQuality Version: 1.87.0 Command: /home/biocbuild/bbs-3.22-bioc/R/bin/R CMD INSTALL arrayQuality StartedAt: 2025-10-23 15:04:42 -0400 (Thu, 23 Oct 2025) EndedAt: 2025-10-23 15:05:00 -0400 (Thu, 23 Oct 2025) EllapsedTime: 18.4 seconds RetCode: 0 Status: OK