Package: arrayQualityMetrics Version: 3.66.0 Command: /Library/Frameworks/R.framework/Resources/bin/R CMD build --keep-empty-dirs --no-resave-data arrayQualityMetrics StartedAt: 2025-11-10 15:38:38 -0500 (Mon, 10 Nov 2025) EndedAt: 2025-11-10 15:42:39 -0500 (Mon, 10 Nov 2025) EllapsedTime: 241.6 seconds RetCode: 0 Status: OK PackageFile: arrayQualityMetrics_3.66.0.tar.gz PackageFileSize: 596.1 KiB