Package: branchpointer Version: 1.35.1 Command: /home/biocbuild/bbs-3.22-bioc/R/bin/R CMD build --keep-empty-dirs --no-resave-data --md5 branchpointer StartedAt: 2025-10-15 16:41:00 -0400 (Wed, 15 Oct 2025) EndedAt: 2025-10-15 16:42:12 -0400 (Wed, 15 Oct 2025) EllapsedTime: 72.1 seconds RetCode: 1 Status: ERROR PackageFile: None PackageFileSize: NA