Package: branchpointer Version: 1.35.1 Command: /home/biocbuild/bbs-3.22-bioc/R/bin/R CMD INSTALL branchpointer StartedAt: 2025-10-16 16:36:53 -0400 (Thu, 16 Oct 2025) EndedAt: 2025-10-16 16:37:44 -0400 (Thu, 16 Oct 2025) EllapsedTime: 51.5 seconds RetCode: 0 Status: OK