Package: clustComp Version: 1.37.0 Command: /home/biocbuild/bbs-3.22-bioc/R/bin/R CMD INSTALL clustComp StartedAt: 2025-10-08 15:13:26 -0400 (Wed, 08 Oct 2025) EndedAt: 2025-10-08 15:13:34 -0400 (Wed, 08 Oct 2025) EllapsedTime: 7.7 seconds RetCode: 0 Status: OK