Package: clustifyr Version: 1.21.0 Command: /home/biocbuild/bbs-3.22-bioc/R/bin/R CMD INSTALL clustifyr StartedAt: 2025-10-19 15:19:49 -0400 (Sun, 19 Oct 2025) EndedAt: 2025-10-19 15:20:22 -0400 (Sun, 19 Oct 2025) EllapsedTime: 32.6 seconds RetCode: 0 Status: OK