Package: compcodeR Version: 1.46.0 Command: rm -rf compcodeR.buildbin-libdir && mkdir compcodeR.buildbin-libdir && /Users/biocbuild/BBS/utils/build-universal.sh compcodeR_1.46.0.tar.gz /Library/Frameworks/R.framework/Resources/bin/R compcodeR.buildbin-libdir StartedAt: 2025-11-10 23:15:43 -0500 (Mon, 10 Nov 2025) EndedAt: 2025-11-10 23:15:50 -0500 (Mon, 10 Nov 2025) EllapsedTime: 6.1 seconds RetCode: 0 Status: OK PackageFile: compcodeR_1.46.0.tgz PackageFileSize: 2.708 MiB