Package: diffUTR Version: 1.18.0 Command: rm -rf diffUTR.buildbin-libdir && mkdir diffUTR.buildbin-libdir && /Users/biocbuild/BBS/utils/build-universal.sh diffUTR_1.18.0.tar.gz /Library/Frameworks/R.framework/Resources/bin/R diffUTR.buildbin-libdir StartedAt: 2025-11-09 23:05:58 -0500 (Sun, 09 Nov 2025) EndedAt: 2025-11-09 23:06:18 -0500 (Sun, 09 Nov 2025) EllapsedTime: 20.4 seconds RetCode: 0 Status: OK PackageFile: diffUTR_1.18.0.tgz PackageFileSize: 1.427 MiB