Package: diffUTR Version: 1.18.0 Command: /Library/Frameworks/R.framework/Resources/bin/R CMD build --keep-empty-dirs --no-resave-data diffUTR StartedAt: 2025-11-09 16:13:24 -0500 (Sun, 09 Nov 2025) EndedAt: 2025-11-09 16:13:56 -0500 (Sun, 09 Nov 2025) EllapsedTime: 32.4 seconds RetCode: 0 Status: OK PackageFile: diffUTR_1.18.0.tar.gz PackageFileSize: 1.38 MiB