Package: diffUTR Version: 1.18.0 Command: rm -rf diffUTR.buildbin-libdir && mkdir diffUTR.buildbin-libdir && /Users/biocbuild/BBS/utils/build-universal.sh diffUTR_1.18.0.tar.gz /Library/Frameworks/R.framework/Resources/bin/R diffUTR.buildbin-libdir StartedAt: 2025-11-04 01:37:15 -0500 (Tue, 04 Nov 2025) EndedAt: 2025-11-04 01:38:22 -0500 (Tue, 04 Nov 2025) EllapsedTime: 66.7 seconds RetCode: 0 Status: OK PackageFile: diffUTR_1.18.0.tgz PackageFileSize: 1.428 MiB