Package: diffUTR Version: 1.18.0 Command: /Library/Frameworks/R.framework/Resources/bin/R CMD build --keep-empty-dirs --no-resave-data diffUTR StartedAt: 2025-11-03 16:48:52 -0500 (Mon, 03 Nov 2025) EndedAt: 2025-11-03 16:50:26 -0500 (Mon, 03 Nov 2025) EllapsedTime: 93.5 seconds RetCode: 0 Status: OK PackageFile: diffUTR_1.18.0.tar.gz PackageFileSize: 1.382 MiB