Package: diffuStats Version: 1.30.0 Command: rm -rf diffuStats.buildbin-libdir && mkdir diffuStats.buildbin-libdir && /Users/biocbuild/BBS/utils/build-universal.sh diffuStats_1.30.0.tar.gz /Library/Frameworks/R.framework/Resources/bin/R diffuStats.buildbin-libdir StartedAt: 2025-10-31 23:05:00 -0400 (Fri, 31 Oct 2025) EndedAt: 2025-10-31 23:05:09 -0400 (Fri, 31 Oct 2025) EllapsedTime: 9.2 seconds RetCode: 0 Status: OK PackageFile: diffuStats_1.30.0.tgz PackageFileSize: 1.431 MiB