Package: diffuStats Version: 1.30.0 Command: /Library/Frameworks/R.framework/Resources/bin/R CMD INSTALL diffuStats StartedAt: 2025-11-02 15:04:26 -0500 (Sun, 02 Nov 2025) EndedAt: 2025-11-02 15:04:38 -0500 (Sun, 02 Nov 2025) EllapsedTime: 12.8 seconds RetCode: 0 Status: OK