Package: diffuStats Version: 1.30.0 Command: /Library/Frameworks/R.framework/Resources/bin/R CMD build --keep-empty-dirs --no-resave-data diffuStats StartedAt: 2025-11-03 16:48:45 -0500 (Mon, 03 Nov 2025) EndedAt: 2025-11-03 16:49:46 -0500 (Mon, 03 Nov 2025) EllapsedTime: 60.4 seconds RetCode: 0 Status: OK PackageFile: diffuStats_1.30.0.tar.gz PackageFileSize: 1.329 MiB