Package: diffuStats Version: 1.30.0 Command: /Library/Frameworks/R.framework/Resources/bin/R CMD INSTALL diffuStats StartedAt: 2025-11-03 15:14:26 -0500 (Mon, 03 Nov 2025) EndedAt: 2025-11-03 15:15:07 -0500 (Mon, 03 Nov 2025) EllapsedTime: 41.1 seconds RetCode: 0 Status: OK