Package: interactiveDisplayBase Version: 1.48.0 Command: /Library/Frameworks/R.framework/Resources/bin/R CMD INSTALL interactiveDisplayBase StartedAt: 2025-11-10 15:10:21 -0500 (Mon, 10 Nov 2025) EndedAt: 2025-11-10 15:10:23 -0500 (Mon, 10 Nov 2025) EllapsedTime: 1.6 seconds RetCode: 0 Status: OK