Package: pcaMethods Version: 2.2.0 Command: /home/biocbuild/bbs-3.22-bioc/R/bin/R CMD INSTALL pcaMethods StartedAt: 2025-11-16 15:13:44 -0500 (Sun, 16 Nov 2025) EndedAt: 2025-11-16 15:13:57 -0500 (Sun, 16 Nov 2025) EllapsedTime: 13.0 seconds RetCode: 0 Status: OK