Package: preprocessCore Version: 1.71.2 Command: /home/biocbuild/bbs-3.22-bioc/R/bin/R CMD INSTALL preprocessCore StartedAt: 2025-10-12 15:11:06 -0400 (Sun, 12 Oct 2025) EndedAt: 2025-10-12 15:11:21 -0400 (Sun, 12 Oct 2025) EllapsedTime: 14.8 seconds RetCode: 0 Status: OK