Package: scBubbletree Version: 1.12.0 Maintainer: Simo Kitanovski MaintainerEmail: simokitanovski at gmail.com git_url: https://git.bioconductor.org/packages/scBubbletree git_branch: RELEASE_3_22 git_last_commit: 46c4478 git_last_commit_date: 2025-10-29 11:19:00 -0400 (Wed, 29 Oct 2025)