Package: scBubbletree Version: 1.12.0 Command: /Library/Frameworks/R.framework/Resources/bin/R CMD build --keep-empty-dirs --no-resave-data scBubbletree StartedAt: 2025-11-21 09:17:02 -0500 (Fri, 21 Nov 2025) EndedAt: 2025-11-21 09:24:22 -0500 (Fri, 21 Nov 2025) EllapsedTime: 440.1 seconds RetCode: 0 Status: OK PackageFile: scBubbletree_1.12.0.tar.gz PackageFileSize: 4.424 MiB