Package: scBubbletree Version: 1.12.0 Command: /Library/Frameworks/R.framework/Resources/bin/R CMD INSTALL scBubbletree StartedAt: 2025-11-20 16:19:43 -0500 (Thu, 20 Nov 2025) EndedAt: 2025-11-20 16:20:05 -0500 (Thu, 20 Nov 2025) EllapsedTime: 22.1 seconds RetCode: 0 Status: OK