Package: scBubbletree Version: 1.11.0 Command: /Library/Frameworks/R.framework/Resources/bin/R CMD build --keep-empty-dirs --no-resave-data scBubbletree StartedAt: 2025-10-13 17:37:01 -0400 (Mon, 13 Oct 2025) EndedAt: 2025-10-13 17:39:41 -0400 (Mon, 13 Oct 2025) EllapsedTime: 159.8 seconds RetCode: 0 Status: OK PackageFile: scBubbletree_1.11.0.tar.gz PackageFileSize: 4.422 MiB