Package: scBubbletree Version: 1.11.0 Command: /Library/Frameworks/R.framework/Resources/bin/R CMD INSTALL scBubbletree StartedAt: 2025-10-20 15:12:59 -0400 (Mon, 20 Oct 2025) EndedAt: 2025-10-20 15:13:28 -0400 (Mon, 20 Oct 2025) EllapsedTime: 29.5 seconds RetCode: 0 Status: OK