Package: scDataviz Version: 1.20.0 Command: /home/biocbuild/bbs-3.22-bioc/R/bin/R CMD build --keep-empty-dirs --no-resave-data --md5 scDataviz StartedAt: 2025-11-11 19:59:04 -0500 (Tue, 11 Nov 2025) EndedAt: 2025-11-11 20:03:07 -0500 (Tue, 11 Nov 2025) EllapsedTime: 243.2 seconds RetCode: 0 Status: OK PackageFile: scDataviz_1.20.0.tar.gz PackageFileSize: 7.482 MiB