Package: scDataviz Version: 1.20.0 Command: /home/biocbuild/bbs-3.22-bioc/R/bin/R CMD INSTALL scDataviz StartedAt: 2025-11-11 15:37:51 -0500 (Tue, 11 Nov 2025) EndedAt: 2025-11-11 15:38:29 -0500 (Tue, 11 Nov 2025) EllapsedTime: 37.2 seconds RetCode: 0 Status: OK