Package: scuttle Version: 1.20.0 Command: /Library/Frameworks/R.framework/Resources/bin/R CMD build --keep-empty-dirs --no-resave-data scuttle StartedAt: 2025-11-25 09:23:18 -0500 (Tue, 25 Nov 2025) EndedAt: 2025-11-25 09:26:37 -0500 (Tue, 25 Nov 2025) EllapsedTime: 198.9 seconds RetCode: 0 Status: OK PackageFile: scuttle_1.20.0.tar.gz PackageFileSize: 1006 KiB