Package: scuttle Version: 1.20.0 Command: /Library/Frameworks/R.framework/Resources/bin/R CMD INSTALL scuttle StartedAt: 2025-11-24 16:16:03 -0500 (Mon, 24 Nov 2025) EndedAt: 2025-11-24 16:17:09 -0500 (Mon, 24 Nov 2025) EllapsedTime: 66.4 seconds RetCode: 0 Status: OK