Package: scuttle Version: 1.19.0 Command: rm -rf scuttle.buildbin-libdir && mkdir scuttle.buildbin-libdir && /Users/biocbuild/BBS/utils/build-universal.sh scuttle_1.19.0.tar.gz /Library/Frameworks/R.framework/Resources/bin/R scuttle.buildbin-libdir StartedAt: 2025-10-08 02:41:45 -0400 (Wed, 08 Oct 2025) EndedAt: 2025-10-08 02:43:16 -0400 (Wed, 08 Oct 2025) EllapsedTime: 91.3 seconds RetCode: 0 Status: OK PackageFile: scuttle_1.19.0.tgz PackageFileSize: 1.285 MiB