Package: scuttle Version: 1.20.0 Command: rm -rf scuttle.buildbin-libdir && mkdir scuttle.buildbin-libdir && /Users/biocbuild/BBS/utils/build-universal.sh scuttle_1.20.0.tar.gz /Library/Frameworks/R.framework/Resources/bin/R scuttle.buildbin-libdir StartedAt: 2025-11-21 15:36:47 -0500 (Fri, 21 Nov 2025) EndedAt: 2025-11-21 15:39:17 -0500 (Fri, 21 Nov 2025) EllapsedTime: 150.7 seconds RetCode: 0 Status: OK PackageFile: scuttle_1.20.0.tgz PackageFileSize: 1.286 MiB