Package: scuttle Version: 1.20.0 Command: /Library/Frameworks/R.framework/Resources/bin/R CMD build --keep-empty-dirs --no-resave-data scuttle StartedAt: 2025-11-20 23:41:15 -0500 (Thu, 20 Nov 2025) EndedAt: 2025-11-20 23:46:03 -0500 (Thu, 20 Nov 2025) EllapsedTime: 287.4 seconds RetCode: 0 Status: OK PackageFile: scuttle_1.20.0.tar.gz PackageFileSize: 1006 KiB